BEGIN:VCALENDAR
VERSION:2.0
PRODID:-//Atlantis Charter School - ECPv6.15.20//NONSGML v1.0//EN
CALSCALE:GREGORIAN
METHOD:PUBLISH
X-WR-CALNAME:Atlantis Charter School
X-ORIGINAL-URL:https://www.atlantiscs.org
X-WR-CALDESC:Events for Atlantis Charter School
REFRESH-INTERVAL;VALUE=DURATION:PT1H
X-Robots-Tag:noindex
X-PUBLISHED-TTL:PT1H
BEGIN:VTIMEZONE
TZID:America/New_York
BEGIN:DAYLIGHT
TZOFFSETFROM:-0500
TZOFFSETTO:-0400
TZNAME:EDT
DTSTART:20240310T070000
END:DAYLIGHT
BEGIN:STANDARD
TZOFFSETFROM:-0400
TZOFFSETTO:-0500
TZNAME:EST
DTSTART:20241103T060000
END:STANDARD
BEGIN:DAYLIGHT
TZOFFSETFROM:-0500
TZOFFSETTO:-0400
TZNAME:EDT
DTSTART:20250309T070000
END:DAYLIGHT
BEGIN:STANDARD
TZOFFSETFROM:-0400
TZOFFSETTO:-0500
TZNAME:EST
DTSTART:20251102T060000
END:STANDARD
BEGIN:DAYLIGHT
TZOFFSETFROM:-0500
TZOFFSETTO:-0400
TZNAME:EDT
DTSTART:20260308T070000
END:DAYLIGHT
BEGIN:STANDARD
TZOFFSETFROM:-0400
TZOFFSETTO:-0500
TZNAME:EST
DTSTART:20261101T060000
END:STANDARD
END:VTIMEZONE
BEGIN:VEVENT
DTSTART;TZID=America/New_York:20251215T144500
DTEND;TZID=America/New_York:20251215T173000
DTSTAMP:20260420T140823
CREATED:20251215T150938Z
LAST-MODIFIED:20251215T220420Z
UID:9136-1765809900-1765819800@www.atlantiscs.org
SUMMARY:Cheer Practice
DESCRIPTION:
URL:https://www.atlantiscs.org/event/cheer-practice/
LOCATION:US Student Center
CATEGORIES:ACS,Athletics Events
END:VEVENT
BEGIN:VEVENT
DTSTART;TZID=America/New_York:20251215T160000
DTEND;TZID=America/New_York:20251215T173000
DTSTAMP:20260420T140823
CREATED:20251215T153237Z
LAST-MODIFIED:20251215T170841Z
UID:9332-1765814400-1765819800@www.atlantiscs.org
SUMMARY:Boys JV Basketball vs Rising Tide Charter Public School
DESCRIPTION:Sport: Basketball\nLevel: Boys JV\nTeam: Atlantis Charter School\nSite: Atlantis Charter\nSubsite: Gym
URL:https://www.atlantiscs.org/event/boys-jv-basketball-vs-rising-tide-charter-public-school/
LOCATION:991 Jefferson Street\, Fall River\, MA\, United States
CATEGORIES:ACS,Athletics Events
GEO:41.678895;-71.153648
END:VEVENT
BEGIN:VEVENT
DTSTART;TZID=America/New_York:20251215T173000
DTEND;TZID=America/New_York:20251215T183000
DTSTAMP:20260420T140823
CREATED:20251215T153315Z
LAST-MODIFIED:20251215T163916Z
UID:9345-1765819800-1765823400@www.atlantiscs.org
SUMMARY:Boys Varsity Basketball vs Rising Tide Charter Public School
DESCRIPTION:Sport: Basketball\nLevel: Boys Varsity\nTeam: Atlantis Charter School\nSite: Atlantis Charter\nSubsite: Gym
URL:https://www.atlantiscs.org/event/boys-varsity-basketball-vs-rising-tide-charter-public-school/
LOCATION:991 Jefferson Street\, Fall River\, MA\, United States
CATEGORIES:ACS,Athletics Events,Varsity Boys Basketball
GEO:41.678895;-71.153648
END:VEVENT
BEGIN:VEVENT
DTSTART;TZID=America/New_York:20251216T144500
DTEND;TZID=America/New_York:20251216T173000
DTSTAMP:20260420T140823
CREATED:20251215T150939Z
LAST-MODIFIED:20251216T222309Z
UID:9137-1765896300-1765906200@www.atlantiscs.org
SUMMARY:Cheer Practice
DESCRIPTION:
URL:https://www.atlantiscs.org/event/cheer-practice-2/
LOCATION:US Student Center
CATEGORIES:ACS,Athletics Events
END:VEVENT
BEGIN:VEVENT
DTSTART;TZID=America/New_York:20251216T153000
DTEND;TZID=America/New_York:20251216T160000
DTSTAMP:20260420T140823
CREATED:20251215T153349Z
LAST-MODIFIED:20251215T163913Z
UID:9366-1765899000-1765900800@www.atlantiscs.org
SUMMARY:Girls Varsity Basketball vs Bristol County Agricultural High School
DESCRIPTION:Sport: Basketball\nLevel: Girls Varsity\nTeam: Atlantis Charter School\nSite: Atlantis Charter\nSubsite: Gym
URL:https://www.atlantiscs.org/event/girls-varsity-basketball-vs-bristol-county-agricultural-high-school/
LOCATION:991 Jefferson Street\, Fall River\, MA\, United States
CATEGORIES:ACS,Athletics Events,Varsity Girls Basketball
GEO:41.678895;-71.153648
END:VEVENT
BEGIN:VEVENT
DTSTART;TZID=America/New_York:20251217T144500
DTEND;TZID=America/New_York:20251217T173000
DTSTAMP:20260420T140823
CREATED:20251215T150939Z
LAST-MODIFIED:20251216T235415Z
UID:9138-1765982700-1765992600@www.atlantiscs.org
SUMMARY:Cheer Practice
DESCRIPTION:
URL:https://www.atlantiscs.org/event/cheer-practice-3/
LOCATION:US Student Center
CATEGORIES:ACS,Athletics Events
END:VEVENT
BEGIN:VEVENT
DTSTART;TZID=America/New_York:20251218T144500
DTEND;TZID=America/New_York:20251218T173000
DTSTAMP:20260420T140823
CREATED:20251215T150939Z
LAST-MODIFIED:20251218T220740Z
UID:9139-1766069100-1766079000@www.atlantiscs.org
SUMMARY:Cheer Practice
DESCRIPTION:
URL:https://www.atlantiscs.org/event/cheer-practice-4/
LOCATION:US Student Center
CATEGORIES:ACS,Athletics Events
END:VEVENT
BEGIN:VEVENT
DTSTART;TZID=America/New_York:20251218T173000
DTEND;TZID=America/New_York:20251218T193000
DTSTAMP:20260420T140823
CREATED:20251215T153138Z
LAST-MODIFIED:20251215T164113Z
UID:9310-1766079000-1766086200@www.atlantiscs.org
SUMMARY:Dual + JV Mat Wrestling vs Carver Middle/High School
DESCRIPTION:Sport: Wrestling\nLevel: Dual + JV Mat\nTeam: Atlantis Charter School\nSite: Atlantis Charter\nSubsite: Gym
URL:https://www.atlantiscs.org/event/dual-jv-mat-wrestling-vs-carver-middle-high-school/
LOCATION:991 Jefferson Street\, Fall River\, MA\, United States
CATEGORIES:ACS,Athletics Events,Varsity Wrestling
GEO:41.678895;-71.153648
END:VEVENT
BEGIN:VEVENT
DTSTART;TZID=America/New_York:20251219T144500
DTEND;TZID=America/New_York:20251219T173000
DTSTAMP:20260420T140823
CREATED:20251215T150939Z
LAST-MODIFIED:20251219T222308Z
UID:9140-1766155500-1766165400@www.atlantiscs.org
SUMMARY:Cheer Practice
DESCRIPTION:
URL:https://www.atlantiscs.org/event/cheer-practice-5/
LOCATION:US Student Center
CATEGORIES:ACS,Athletics Events
END:VEVENT
END:VCALENDAR