BEGIN:VCALENDAR
VERSION:2.0
PRODID:-//Atlantis Charter School - ECPv6.15.20//NONSGML v1.0//EN
CALSCALE:GREGORIAN
METHOD:PUBLISH
X-WR-CALNAME:Atlantis Charter School
X-ORIGINAL-URL:https://www.atlantiscs.org
X-WR-CALDESC:Events for Atlantis Charter School
REFRESH-INTERVAL;VALUE=DURATION:PT1H
X-Robots-Tag:noindex
X-PUBLISHED-TTL:PT1H
BEGIN:VTIMEZONE
TZID:America/New_York
BEGIN:DAYLIGHT
TZOFFSETFROM:-0500
TZOFFSETTO:-0400
TZNAME:EDT
DTSTART:20250309T070000
END:DAYLIGHT
BEGIN:STANDARD
TZOFFSETFROM:-0400
TZOFFSETTO:-0500
TZNAME:EST
DTSTART:20251102T060000
END:STANDARD
BEGIN:DAYLIGHT
TZOFFSETFROM:-0500
TZOFFSETTO:-0400
TZNAME:EDT
DTSTART:20260308T070000
END:DAYLIGHT
BEGIN:STANDARD
TZOFFSETFROM:-0400
TZOFFSETTO:-0500
TZNAME:EST
DTSTART:20261101T060000
END:STANDARD
BEGIN:DAYLIGHT
TZOFFSETFROM:-0500
TZOFFSETTO:-0400
TZNAME:EDT
DTSTART:20270314T070000
END:DAYLIGHT
BEGIN:STANDARD
TZOFFSETFROM:-0400
TZOFFSETTO:-0500
TZNAME:EST
DTSTART:20271107T060000
END:STANDARD
END:VTIMEZONE
BEGIN:VEVENT
DTSTART;TZID=America/New_York:20260325T114500
DTEND;TZID=America/New_York:20260325T121500
DTSTAMP:20260420T122237
CREATED:20251215T151002Z
LAST-MODIFIED:20260107T183757Z
UID:9256-1774439100-1774440900@www.atlantiscs.org
SUMMARY:Early Dismissal (Students Only) Staff PD
DESCRIPTION:
URL:https://www.atlantiscs.org/event/early-dismissal-students-only-staff-pd-3/
LOCATION:Lower Site
CATEGORIES:ACS
END:VEVENT
BEGIN:VEVENT
DTSTART;TZID=America/New_York:20260325T120000
DTEND;TZID=America/New_York:20260325T123000
DTSTAMP:20260420T122237
CREATED:20251215T151002Z
LAST-MODIFIED:20260107T183757Z
UID:9254-1774440000-1774441800@www.atlantiscs.org
SUMMARY:Early Dismissal ( Students Only_ Staff PD
DESCRIPTION:
URL:https://www.atlantiscs.org/event/early-dismissal-students-only_-staff-pd/
LOCATION:Annex
CATEGORIES:ACS
END:VEVENT
BEGIN:VEVENT
DTSTART;TZID=America/New_York:20260326T073000
DTEND;TZID=America/New_York:20260326T083000
DTSTAMP:20260420T122237
CREATED:20260128T145145Z
LAST-MODIFIED:20260128T145145Z
UID:11125-1774510200-1774513800@www.atlantiscs.org
SUMMARY:Gr. 10 MCAS ELA
DESCRIPTION:
URL:https://www.atlantiscs.org/event/gr-10-mcas-ela-2/
CATEGORIES:ACS
END:VEVENT
BEGIN:VEVENT
DTSTART;TZID=America/New_York:20260327T150000
DTEND;TZID=America/New_York:20260327T180000
DTSTAMP:20260420T122237
CREATED:20260327T200607Z
LAST-MODIFIED:20260327T200607Z
UID:13433-1774623600-1774634400@www.atlantiscs.org
SUMMARY:Spirit Club
DESCRIPTION:
URL:https://www.atlantiscs.org/event/spirit-club/
LOCATION:US Student Center
CATEGORIES:ACS
END:VEVENT
BEGIN:VEVENT
DTSTART;TZID=America/New_York:20260327T153000
DTEND;TZID=America/New_York:20260327T183000
DTSTAMP:20260420T122237
CREATED:20260302T220638Z
LAST-MODIFIED:20260302T220638Z
UID:12517-1774625400-1774636200@www.atlantiscs.org
SUMMARY:Senior vs. Staff annual game
DESCRIPTION:
URL:https://www.atlantiscs.org/event/senior-vs-staff-annual-game/
LOCATION:Triton Gym
CATEGORIES:ACS
END:VEVENT
BEGIN:VEVENT
DTSTART;TZID=America/New_York:20260328T170000
DTEND;TZID=America/New_York:20260328T200000
DTSTAMP:20260420T122237
CREATED:20251215T151003Z
LAST-MODIFIED:20260107T183758Z
UID:9260-1774717200-1774728000@www.atlantiscs.org
SUMMARY:Family Dance Parent Group
DESCRIPTION:
URL:https://www.atlantiscs.org/event/family-dance-parent-group/
LOCATION:US Student Center
CATEGORIES:ACS
END:VEVENT
BEGIN:VEVENT
DTSTART;TZID=America/New_York:20260330T073000
DTEND;TZID=America/New_York:20260330T083000
DTSTAMP:20260420T122237
CREATED:20260128T145145Z
LAST-MODIFIED:20260128T145145Z
UID:11126-1774855800-1774859400@www.atlantiscs.org
SUMMARY:Gr. 3 MCAS ELA
DESCRIPTION:
URL:https://www.atlantiscs.org/event/gr-3-mcas-ela/
CATEGORIES:ACS
END:VEVENT
BEGIN:VEVENT
DTSTART;TZID=America/New_York:20260331T073000
DTEND;TZID=America/New_York:20260331T083000
DTSTAMP:20260420T122237
CREATED:20260128T145146Z
LAST-MODIFIED:20260128T145146Z
UID:11127-1774942200-1774945800@www.atlantiscs.org
SUMMARY:Gr. 3 MCAS ELA
DESCRIPTION:
URL:https://www.atlantiscs.org/event/gr-3-mcas-ela-2/
CATEGORIES:ACS
END:VEVENT
BEGIN:VEVENT
DTSTART;TZID=America/New_York:20260331T180000
DTEND;TZID=America/New_York:20260331T200000
DTSTAMP:20260420T122237
CREATED:20251215T151003Z
LAST-MODIFIED:20260107T183759Z
UID:9263-1774980000-1774987200@www.atlantiscs.org
SUMMARY:FISS Institute
DESCRIPTION:
URL:https://www.atlantiscs.org/event/fiss-institute-3/
LOCATION:7th grade classrooms and ISS Room
CATEGORIES:ACS
END:VEVENT
BEGIN:VEVENT
DTSTART;TZID=America/New_York:20260401T073000
DTEND;TZID=America/New_York:20260401T083000
DTSTAMP:20260420T122237
CREATED:20260128T145146Z
LAST-MODIFIED:20260128T145146Z
UID:11128-1775028600-1775032200@www.atlantiscs.org
SUMMARY:Gr. 4 MCAS ELA
DESCRIPTION:
URL:https://www.atlantiscs.org/event/gr-4-mcas-ela/
CATEGORIES:ACS
END:VEVENT
BEGIN:VEVENT
DTSTART;TZID=America/New_York:20260402T073000
DTEND;TZID=America/New_York:20260402T083000
DTSTAMP:20260420T122237
CREATED:20260128T145146Z
LAST-MODIFIED:20260128T145146Z
UID:11129-1775115000-1775118600@www.atlantiscs.org
SUMMARY:Gr. 4 MCAS ELA
DESCRIPTION:
URL:https://www.atlantiscs.org/event/gr-4-mcas-ela-2/
CATEGORIES:ACS
END:VEVENT
BEGIN:VEVENT
DTSTART;VALUE=DATE:20260402
DTEND;VALUE=DATE:20260404
DTSTAMP:20260420T122237
CREATED:20251215T151003Z
LAST-MODIFIED:20260107T183759Z
UID:9264-1775160000-1775246399@www.atlantiscs.org
SUMMARY:Good Friday- No School
DESCRIPTION:
URL:https://www.atlantiscs.org/event/good-friday-no-school-3/
CATEGORIES:ACS
END:VEVENT
BEGIN:VEVENT
DTSTART;TZID=America/New_York:20260406T073000
DTEND;TZID=America/New_York:20260406T083000
DTSTAMP:20260420T122237
CREATED:20260128T145146Z
LAST-MODIFIED:20260128T145146Z
UID:11130-1775460600-1775464200@www.atlantiscs.org
SUMMARY:Gr. 5 & 8 MCAS ELA
DESCRIPTION:
URL:https://www.atlantiscs.org/event/gr-5-8-mcas-ela/
CATEGORIES:ACS
END:VEVENT
BEGIN:VEVENT
DTSTART;TZID=America/New_York:20260407T073000
DTEND;TZID=America/New_York:20260407T083000
DTSTAMP:20260420T122237
CREATED:20260128T145146Z
LAST-MODIFIED:20260128T145146Z
UID:11131-1775547000-1775550600@www.atlantiscs.org
SUMMARY:Gr. 5 & 8 MCAS ELA
DESCRIPTION:
URL:https://www.atlantiscs.org/event/gr-5-8-mcas-ela-2/
CATEGORIES:ACS
END:VEVENT
BEGIN:VEVENT
DTSTART;TZID=America/New_York:20260407T180000
DTEND;TZID=America/New_York:20260407T200000
DTSTAMP:20260420T122237
CREATED:20251215T151004Z
LAST-MODIFIED:20260107T183759Z
UID:9265-1775584800-1775592000@www.atlantiscs.org
SUMMARY:FISS Institute
DESCRIPTION:
URL:https://www.atlantiscs.org/event/fiss-institute-4/
LOCATION:7th grade classrooms and ISS Room
CATEGORIES:ACS
END:VEVENT
BEGIN:VEVENT
DTSTART;TZID=America/New_York:20260408T073000
DTEND;TZID=America/New_York:20260408T083000
DTSTAMP:20260420T122237
CREATED:20260128T145146Z
LAST-MODIFIED:20260128T145146Z
UID:11132-1775633400-1775637000@www.atlantiscs.org
SUMMARY:Gr. 6 & 7 MCAS ELA
DESCRIPTION:
URL:https://www.atlantiscs.org/event/gr-6-7-mcas-ela/
CATEGORIES:ACS
END:VEVENT
BEGIN:VEVENT
DTSTART;TZID=America/New_York:20260408T153000
DTEND;TZID=America/New_York:20260408T173000
DTSTAMP:20260420T122237
CREATED:20251215T151004Z
LAST-MODIFIED:20260107T183759Z
UID:9266-1775662200-1775669400@www.atlantiscs.org
SUMMARY:Mentor Meeting
DESCRIPTION:
URL:https://www.atlantiscs.org/event/mentor-meeting-4/
LOCATION:annex rm #177
CATEGORIES:ACS
END:VEVENT
BEGIN:VEVENT
DTSTART;TZID=America/New_York:20260409T073000
DTEND;TZID=America/New_York:20260409T083000
DTSTAMP:20260420T122237
CREATED:20260128T145147Z
LAST-MODIFIED:20260128T145147Z
UID:11133-1775719800-1775723400@www.atlantiscs.org
SUMMARY:Gr. 6 & 7 MCAS ELA
DESCRIPTION:
URL:https://www.atlantiscs.org/event/gr-6-7-mcas-ela-2/
CATEGORIES:ACS
END:VEVENT
BEGIN:VEVENT
DTSTART;TZID=America/New_York:20260409T160000
DTEND;TZID=America/New_York:20260409T173000
DTSTAMP:20260420T122237
CREATED:20260204T172421Z
LAST-MODIFIED:20260326T153055Z
UID:11455-1775750400-1775755800@www.atlantiscs.org
SUMMARY:Educator Open House
DESCRIPTION:Join Atlantis Charter School for our Educator Open House\, designed for passionate educators interested in joining a dynamic K–12 school community in Fall River\, MA. Meet our leadership team\, explore our Career Academies\, and learn how Atlantis supports innovation\, collaboration\, and student success. Discover opportunities to grow your career while making a meaningful impact. \n👉 Sign up today: https://www.atlantiscs.org/educator-open-house/
URL:https://www.atlantiscs.org/event/hr-open-house/
LOCATION:US Student Center
CATEGORIES:ACS,HR
ATTACH;FMTTYPE=image/png:https://www.atlantiscs.org/wp-content/uploads/Educator-Open-House-Image.png
END:VEVENT
BEGIN:VEVENT
DTSTART;TZID=America/New_York:20260410T000000
DTEND;TZID=America/New_York:20260410T000000
DTSTAMP:20260420T122237
CREATED:20250904T185444Z
LAST-MODIFIED:20251023T183041Z
UID:8711-1775779200-1775779200@www.atlantiscs.org
SUMMARY:End of Marking Period Q3
DESCRIPTION:
URL:https://www.atlantiscs.org/event/end-of-marking-period-q3/
CATEGORIES:ACS,District Event
END:VEVENT
BEGIN:VEVENT
DTSTART;TZID=America/New_York:20260410T073000
DTEND;TZID=America/New_York:20260410T080000
DTSTAMP:20260420T122237
CREATED:20260331T154915Z
LAST-MODIFIED:20260331T154915Z
UID:13691-1775806200-1775808000@www.atlantiscs.org
SUMMARY:Scholastic BOGO Book Fair
DESCRIPTION:
URL:https://www.atlantiscs.org/event/scholastic-bogo-book-fair/
CATEGORIES:ACS
END:VEVENT
BEGIN:VEVENT
DTSTART;TZID=America/New_York:20260413T073000
DTEND;TZID=America/New_York:20260413T080000
DTSTAMP:20260420T122237
CREATED:20260331T154915Z
LAST-MODIFIED:20260331T154915Z
UID:13692-1776065400-1776067200@www.atlantiscs.org
SUMMARY:Scholastic BOGO Book Fair
DESCRIPTION:
URL:https://www.atlantiscs.org/event/scholastic-bogo-book-fair-2/
CATEGORIES:ACS
END:VEVENT
BEGIN:VEVENT
DTSTART;TZID=America/New_York:20260413T144500
DTEND;TZID=America/New_York:20260413T163000
DTSTAMP:20260420T122237
CREATED:20260406T224949Z
LAST-MODIFIED:20260406T224949Z
UID:14316-1776091500-1776097800@www.atlantiscs.org
SUMMARY:Soccer Club
DESCRIPTION:
URL:https://www.atlantiscs.org/event/soccer-club/
LOCATION:US Triton Gym
CATEGORIES:ACS
END:VEVENT
BEGIN:VEVENT
DTSTART;TZID=America/New_York:20260414T073000
DTEND;TZID=America/New_York:20260414T080000
DTSTAMP:20260420T122237
CREATED:20260331T154915Z
LAST-MODIFIED:20260331T154915Z
UID:13693-1776151800-1776153600@www.atlantiscs.org
SUMMARY:Scholastic BOGO Book Fair
DESCRIPTION:
URL:https://www.atlantiscs.org/event/scholastic-bogo-book-fair-3/
CATEGORIES:ACS
END:VEVENT
BEGIN:VEVENT
DTSTART;TZID=America/New_York:20260414T150000
DTEND;TZID=America/New_York:20260414T173000
DTSTAMP:20260420T122237
CREATED:20260318T160547Z
LAST-MODIFIED:20260318T160547Z
UID:13228-1776178800-1776187800@www.atlantiscs.org
SUMMARY:Theatre Rehearsals
DESCRIPTION:
URL:https://www.atlantiscs.org/event/theatre-rehearsals/
LOCATION:US Student Center
CATEGORIES:ACS
END:VEVENT
BEGIN:VEVENT
DTSTART;TZID=America/New_York:20260414T160000
DTEND;TZID=America/New_York:20260414T183000
DTSTAMP:20260420T122237
CREATED:20260204T172421Z
LAST-MODIFIED:20260204T172421Z
UID:11456-1776182400-1776191400@www.atlantiscs.org
SUMMARY:HR Open House
DESCRIPTION:
URL:https://www.atlantiscs.org/event/hr-open-house-2/
LOCATION:US Student Center
CATEGORIES:ACS
END:VEVENT
BEGIN:VEVENT
DTSTART;VALUE=DATE:20260414
DTEND;VALUE=DATE:20260416
DTSTAMP:20260420T122237
CREATED:20251215T151004Z
LAST-MODIFIED:20260107T183759Z
UID:9269-1776196800-1776283199@www.atlantiscs.org
SUMMARY:Spring Blood Drive
DESCRIPTION:
URL:https://www.atlantiscs.org/event/spring-blood-drive/
LOCATION:Triton Gym
CATEGORIES:ACS
END:VEVENT
BEGIN:VEVENT
DTSTART;TZID=America/New_York:20260415T073000
DTEND;TZID=America/New_York:20260415T080000
DTSTAMP:20260420T122237
CREATED:20260331T154915Z
LAST-MODIFIED:20260331T154915Z
UID:13694-1776238200-1776240000@www.atlantiscs.org
SUMMARY:Scholastic BOGO Book Fair
DESCRIPTION:
URL:https://www.atlantiscs.org/event/scholastic-bogo-book-fair-4/
CATEGORIES:ACS
END:VEVENT
BEGIN:VEVENT
DTSTART;TZID=America/New_York:20260415T150000
DTEND;TZID=America/New_York:20260415T173000
DTSTAMP:20260420T122237
CREATED:20260318T160547Z
LAST-MODIFIED:20260318T160547Z
UID:13229-1776265200-1776274200@www.atlantiscs.org
SUMMARY:Theatre Rehearsals
DESCRIPTION:
URL:https://www.atlantiscs.org/event/theatre-rehearsals-2/
LOCATION:US Student Center
CATEGORIES:ACS
END:VEVENT
BEGIN:VEVENT
DTSTART;TZID=America/New_York:20260415T160000
DTEND;TZID=America/New_York:20260415T183000
DTSTAMP:20260420T122237
CREATED:20260402T144910Z
LAST-MODIFIED:20260402T144910Z
UID:13885-1776268800-1776277800@www.atlantiscs.org
SUMMARY:Family Night Book Fair
DESCRIPTION:
URL:https://www.atlantiscs.org/event/family-night-book-fair-2/
LOCATION:US Student Center
CATEGORIES:ACS
END:VEVENT
END:VCALENDAR