BEGIN:VCALENDAR
VERSION:2.0
PRODID:-//Atlantis Charter School - ECPv6.15.20//NONSGML v1.0//EN
CALSCALE:GREGORIAN
METHOD:PUBLISH
X-WR-CALNAME:Atlantis Charter School
X-ORIGINAL-URL:https://www.atlantiscs.org
X-WR-CALDESC:Events for Atlantis Charter School
REFRESH-INTERVAL;VALUE=DURATION:PT1H
X-Robots-Tag:noindex
X-PUBLISHED-TTL:PT1H
BEGIN:VTIMEZONE
TZID:America/New_York
BEGIN:DAYLIGHT
TZOFFSETFROM:-0500
TZOFFSETTO:-0400
TZNAME:EDT
DTSTART:20250309T070000
END:DAYLIGHT
BEGIN:STANDARD
TZOFFSETFROM:-0400
TZOFFSETTO:-0500
TZNAME:EST
DTSTART:20251102T060000
END:STANDARD
BEGIN:DAYLIGHT
TZOFFSETFROM:-0500
TZOFFSETTO:-0400
TZNAME:EDT
DTSTART:20260308T070000
END:DAYLIGHT
BEGIN:STANDARD
TZOFFSETFROM:-0400
TZOFFSETTO:-0500
TZNAME:EST
DTSTART:20261101T060000
END:STANDARD
BEGIN:DAYLIGHT
TZOFFSETFROM:-0500
TZOFFSETTO:-0400
TZNAME:EDT
DTSTART:20270314T070000
END:DAYLIGHT
BEGIN:STANDARD
TZOFFSETFROM:-0400
TZOFFSETTO:-0500
TZNAME:EST
DTSTART:20271107T060000
END:STANDARD
END:VTIMEZONE
BEGIN:VEVENT
DTSTART;TZID=America/New_York:20260109T181500
DTEND;TZID=America/New_York:20260109T210000
DTSTAMP:20260425T062704
CREATED:20251215T153139Z
LAST-MODIFIED:20251215T183810Z
UID:9313-1767982500-1767992400@www.atlantiscs.org
SUMMARY:Dual Wrestling @ East Boston High School
DESCRIPTION:Sport: Wrestling\nLevel: Dual\nTeam: Atlantis Charter School\nSite: East Boston High School\nSubsite: East Boston High School
URL:https://www.atlantiscs.org/event/dual-wrestling-east-boston-high-school/
LOCATION:86 White St\, Boston\, MA\, United States
CATEGORIES:ACS,Athletics Events,Varsity Wrestling
GEO:42.364197;-71.025694
END:VEVENT
END:VCALENDAR