BEGIN:VCALENDAR
VERSION:2.0
PRODID:-//Atlantis Charter School - ECPv6.15.20//NONSGML v1.0//EN
CALSCALE:GREGORIAN
METHOD:PUBLISH
X-WR-CALNAME:Atlantis Charter School
X-ORIGINAL-URL:https://www.atlantiscs.org
X-WR-CALDESC:Events for Atlantis Charter School
REFRESH-INTERVAL;VALUE=DURATION:PT1H
X-Robots-Tag:noindex
X-PUBLISHED-TTL:PT1H
BEGIN:VTIMEZONE
TZID:America/New_York
BEGIN:DAYLIGHT
TZOFFSETFROM:-0500
TZOFFSETTO:-0400
TZNAME:EDT
DTSTART:20250309T070000
END:DAYLIGHT
BEGIN:STANDARD
TZOFFSETFROM:-0400
TZOFFSETTO:-0500
TZNAME:EST
DTSTART:20251102T060000
END:STANDARD
BEGIN:DAYLIGHT
TZOFFSETFROM:-0500
TZOFFSETTO:-0400
TZNAME:EDT
DTSTART:20260308T070000
END:DAYLIGHT
BEGIN:STANDARD
TZOFFSETFROM:-0400
TZOFFSETTO:-0500
TZNAME:EST
DTSTART:20261101T060000
END:STANDARD
BEGIN:DAYLIGHT
TZOFFSETFROM:-0500
TZOFFSETTO:-0400
TZNAME:EDT
DTSTART:20270314T070000
END:DAYLIGHT
BEGIN:STANDARD
TZOFFSETFROM:-0400
TZOFFSETTO:-0500
TZNAME:EST
DTSTART:20271107T060000
END:STANDARD
END:VTIMEZONE
BEGIN:VEVENT
DTSTART;TZID=America/New_York:20260224T150000
DTEND;TZID=America/New_York:20260227T200000
DTSTAMP:20260419T083230
CREATED:20251215T150953Z
LAST-MODIFIED:20260107T183751Z
UID:9215-1771945200-1772222400@www.atlantiscs.org
SUMMARY:Competition Tech Rehearsals
DESCRIPTION:
URL:https://www.atlantiscs.org/event/competition-tech-rehearsals/2026-02-24/
LOCATION:Upper Site Student Center
CATEGORIES:ACS
END:VEVENT
BEGIN:VEVENT
DTSTART;TZID=America/New_York:20260225T144500
DTEND;TZID=America/New_York:20260225T173000
DTSTAMP:20260419T083230
CREATED:20251215T150953Z
LAST-MODIFIED:20260107T183751Z
UID:9217-1772030700-1772040600@www.atlantiscs.org
SUMMARY:Cheer Practice
DESCRIPTION:
URL:https://www.atlantiscs.org/event/cheer-practice-53/
LOCATION:US Student Center
CATEGORIES:ACS,Athletics Events
END:VEVENT
BEGIN:VEVENT
DTSTART;TZID=America/New_York:20260225T150000
DTEND;TZID=America/New_York:20260225T200000
DTSTAMP:20260419T083230
CREATED:20251215T150953Z
LAST-MODIFIED:20251215T150953Z
UID:10227-1772031600-1772049600@www.atlantiscs.org
SUMMARY:Competition Tech Rehearsals
DESCRIPTION:
URL:https://www.atlantiscs.org/event/competition-tech-rehearsals/2026-02-25/
LOCATION:Upper Site Student Center
CATEGORIES:ACS
END:VEVENT
BEGIN:VEVENT
DTSTART;TZID=America/New_York:20260225T183000
DTEND;TZID=America/New_York:20260225T200000
DTSTAMP:20260419T083230
CREATED:20260209T171922Z
LAST-MODIFIED:20260209T171922Z
UID:11669-1772044200-1772049600@www.atlantiscs.org
SUMMARY:Basic Rights Virtual Workshop
DESCRIPTION:https://itl.ink/BasicRightsWorkshopFeb25\nhttps://itl.ink/BasicRightsWorkshopPortFeb25\nhttps://itl.ink/BasicRightsWorkshopSpanFeb25
URL:https://www.atlantiscs.org/event/basic-rights-virtual-workshop/
CATEGORIES:ACS
END:VEVENT
END:VCALENDAR