BEGIN:VCALENDAR
VERSION:2.0
PRODID:-//Atlantis Charter School - ECPv6.15.20//NONSGML v1.0//EN
CALSCALE:GREGORIAN
METHOD:PUBLISH
X-WR-CALNAME:Atlantis Charter School
X-ORIGINAL-URL:https://www.atlantiscs.org
X-WR-CALDESC:Events for Atlantis Charter School
REFRESH-INTERVAL;VALUE=DURATION:PT1H
X-Robots-Tag:noindex
X-PUBLISHED-TTL:PT1H
BEGIN:VTIMEZONE
TZID:America/New_York
BEGIN:DAYLIGHT
TZOFFSETFROM:-0500
TZOFFSETTO:-0400
TZNAME:EDT
DTSTART:20250309T070000
END:DAYLIGHT
BEGIN:STANDARD
TZOFFSETFROM:-0400
TZOFFSETTO:-0500
TZNAME:EST
DTSTART:20251102T060000
END:STANDARD
BEGIN:DAYLIGHT
TZOFFSETFROM:-0500
TZOFFSETTO:-0400
TZNAME:EDT
DTSTART:20260308T070000
END:DAYLIGHT
BEGIN:STANDARD
TZOFFSETFROM:-0400
TZOFFSETTO:-0500
TZNAME:EST
DTSTART:20261101T060000
END:STANDARD
BEGIN:DAYLIGHT
TZOFFSETFROM:-0500
TZOFFSETTO:-0400
TZNAME:EDT
DTSTART:20270314T070000
END:DAYLIGHT
BEGIN:STANDARD
TZOFFSETFROM:-0400
TZOFFSETTO:-0500
TZNAME:EST
DTSTART:20271107T060000
END:STANDARD
END:VTIMEZONE
BEGIN:VEVENT
DTSTART;TZID=America/New_York:20260116T083000
DTEND;TZID=America/New_York:20260116T141500
DTSTAMP:20260419T083240
CREATED:20251215T150944Z
LAST-MODIFIED:20260107T183744Z
UID:9169-1768552200-1768572900@www.atlantiscs.org
SUMMARY:Gr. 4 Field Trip
DESCRIPTION:
URL:https://www.atlantiscs.org/event/gr-4-field-trip/
LOCATION:Boston Museum of Science
CATEGORIES:ACS
END:VEVENT
BEGIN:VEVENT
DTSTART;TZID=America/New_York:20260116T150000
DTEND;TZID=America/New_York:20260116T190000
DTSTAMP:20260419T083240
CREATED:20251215T150945Z
LAST-MODIFIED:20260107T185056Z
UID:9172-1768575600-1768590000@www.atlantiscs.org
SUMMARY:Cheer Showcase
DESCRIPTION:
URL:https://www.atlantiscs.org/event/cheer-showcase/
LOCATION:Triton Gym
CATEGORIES:ACS,Athletics Events
END:VEVENT
BEGIN:VEVENT
DTSTART;TZID=America/New_York:20260116T163000
DTEND;TZID=America/New_York:20260116T180000
DTSTAMP:20260419T083240
CREATED:20251215T153350Z
LAST-MODIFIED:20251215T163915Z
UID:9372-1768581000-1768586400@www.atlantiscs.org
SUMMARY:Varsity Girl's Basketball @ Rising Tide Charter Public School
DESCRIPTION:Sport: Girl’s Basketball\nLevel: Varsity\nTeam: Atlantis Charter School\nSite: Massachusetts Maritime Academy\nSubsite: Gym
URL:https://www.atlantiscs.org/event/varsity-girls-basketball-rising-tide-charter-public-school-2/
LOCATION:101 Academy Drive\, Buzzards Bay\, MA\, United States
CATEGORIES:ACS,Athletics Events,Varsity Girls Basketball
GEO:41.745505;-70.590471
END:VEVENT
END:VCALENDAR